BEGIN:VCALENDAR
VERSION:2.0
PRODID:-//Crystal City Restaurant - ECPv6.0.12//NONSGML v1.0//EN
CALSCALE:GREGORIAN
METHOD:PUBLISH
X-ORIGINAL-URL:https://crystalcityrestaurant.com
X-WR-CALDESC:Events for Crystal City Restaurant
REFRESH-INTERVAL;VALUE=DURATION:PT1H
X-Robots-Tag:noindex
X-PUBLISHED-TTL:PT1H
BEGIN:VTIMEZONE
TZID:UTC
BEGIN:STANDARD
TZOFFSETFROM:+0000
TZOFFSETTO:+0000
TZNAME:UTC
DTSTART:20210101T000000
END:STANDARD
END:VTIMEZONE
BEGIN:VEVENT
DTSTART;TZID=UTC:20211008T080000
DTEND;TZID=UTC:20211008T190000
DTSTAMP:20260425T015250
CREATED:20211006T145822Z
LAST-MODIFIED:20211006T145822Z
UID:3073-1633680000-1633719600@crystalcityrestaurant.com
SUMMARY:RAVEN'S BIRTHDAY CELEBRATION
DESCRIPTION:VISIT CCR ON FRIDAY OCTOBER 8\, 2021 FROM NOON UNTIL 6:30 AND CELEBRATE WITH RAVEN AS SHE TAKES TO THE STAGE. MAKE IT RAIN !!!!!  POP THOSE CORKS !!!!!!  PARTY PARTY PARTY……SEE YOU AT THE CRYSTAL\,
URL:https://crystalcityrestaurant.com/event/ravens-birthday-celebration/
END:VEVENT
END:VCALENDAR